BEGIN:VCALENDAR
VERSION:2.0
PRODID:-//jEvents 2.0 for Joomla//EN
CALSCALE:GREGORIAN
METHOD:PUBLISH
BEGIN:VEVENT
UID:7680a55b94dab52e75ae59c691cfee1a
CATEGORIES:Termine am JAG
CREATED:20250205T185719
SUMMARY:Musikprojekt (Kl. 6) in GS Am Burgfeld
DESCRIPTION:
DTSTAMP:20260421T132917
DTSTART:20250319T084000
DTEND:20250319T101500
SEQUENCE:0
TRANSP:OPAQUE
END:VEVENT
END:VCALENDAR